BEGIN:VCALENDAR
VERSION:2.0
PRODID:-//nabho.org//NONSGML kigkonsult.se iCalcreator 2.30.10//
CALSCALE:GREGORIAN
METHOD:PUBLISH
UID:b7fe0c73-1f9a-4e5f-add1-534ed53611fb
X-WR-CALDESC:NABHO members and Alliances Partners will gather to meet with 
 State Legislators and Staff.
X-WR-RELCALID:761a9af2894a8bf4570de1c42d292b6b
X-WR-TIMEZONE:America/Chicago
BEGIN:VTIMEZONE
TZID:America/Chicago
BEGIN:STANDARD
TZNAME:CST
DTSTART:20231105T020000
TZOFFSETFROM:-0500
TZOFFSETTO:-0600
RDATE:20241103T020000
END:STANDARD
BEGIN:DAYLIGHT
TZNAME:CDT
DTSTART:20240310T020000
TZOFFSETFROM:-0600
TZOFFSETTO:-0500
RDATE:20250309T020000
END:DAYLIGHT
END:VTIMEZONE
BEGIN:VEVENT
UID:f2c93ae6-8bac-4f36-846b-2833a3deafe1
DTSTAMP:20260422T035806Z
DESCRIPTION:NABHO members and Alliances Partners will gather to meet with S
 tate Legislators and Staff.
DTSTART;TZID=America/Chicago:20240321T070000
DTEND;TZID=America/Chicago:20240321T130000
LOCATION:NABHO Office and Nebraska State Capitol
SUMMARY:NABHO Lobby Day
END:VEVENT
END:VCALENDAR
