BEGIN:VCALENDAR
VERSION:2.0
PRODID:-//nabho.org//NONSGML kigkonsult.se iCalcreator 2.30.10//
CALSCALE:GREGORIAN
METHOD:PUBLISH
UID:760c9778-1e68-4b38-aeb6-a47dad924afd
X-WR-CALDESC:The NABHO Executive Committee meets monthly on the third Frida
 y.
X-WR-RELCALID:6424e3bb6f9bbda537056df3282f6bac
X-WR-TIMEZONE:America/Chicago
BEGIN:VTIMEZONE
TZID:America/Chicago
BEGIN:STANDARD
TZNAME:CST
DTSTART:20271107T020000
TZOFFSETFROM:-0500
TZOFFSETTO:-0600
RDATE:20281105T020000
END:STANDARD
BEGIN:DAYLIGHT
TZNAME:CDT
DTSTART:20270314T020000
TZOFFSETFROM:-0600
TZOFFSETTO:-0500
RDATE:20280312T020000
RDATE:20290311T020000
END:DAYLIGHT
END:VTIMEZONE
BEGIN:VEVENT
UID:8ebfbdec-1ba5-442a-a644-0680dbe12f3f
DTSTAMP:20260421T181841Z
DESCRIPTION:The NABHO Executive Committee meets monthly on the third Friday
 .
DTSTART;TZID=America/Chicago:20271119T080000
DTEND;TZID=America/Chicago:20271119T100000
LOCATION:Virtual meeting\; details to join will be sent to Exec Committee m
 embers via email
SUMMARY:Monthly Executive Committee Meeting
END:VEVENT
END:VCALENDAR
