BEGIN:VCALENDAR
VERSION:2.0
PRODID:-//nabho.org//NONSGML kigkonsult.se iCalcreator 2.30.10//
CALSCALE:GREGORIAN
METHOD:PUBLISH
UID:7b751870-0bc9-4011-8b3c-3c3a52938b4b
X-WR-CALDESC:The NABHO Executive Committee meets monthly on the third Frida
 y.
X-WR-RELCALID:3f5ab0ac61ade6e3b1a5704244082260
X-WR-TIMEZONE:America/Chicago
BEGIN:VTIMEZONE
TZID:America/Chicago
BEGIN:STANDARD
TZNAME:CST
DTSTART:20271107T020000
TZOFFSETFROM:-0500
TZOFFSETTO:-0600
RDATE:20281105T020000
RDATE:20291104T020000
END:STANDARD
BEGIN:DAYLIGHT
TZNAME:CDT
DTSTART:20280312T020000
TZOFFSETFROM:-0600
TZOFFSETTO:-0500
RDATE:20290311T020000
END:DAYLIGHT
END:VTIMEZONE
BEGIN:VEVENT
UID:19414835-9708-48a1-aa61-ae242943c2c6
DTSTAMP:20260422T091317Z
DESCRIPTION:The NABHO Executive Committee meets monthly on the third Friday
 .
DTSTART;TZID=America/Chicago:20280818T080000
DTEND;TZID=America/Chicago:20280818T100000
LOCATION:Virtual meeting\; details to join will be sent to Exec Committee m
 embers via email
SUMMARY:Monthly Executive Committee Meeting
END:VEVENT
END:VCALENDAR
