BEGIN:VCALENDAR
VERSION:2.0
PRODID:-//nabho.org//NONSGML kigkonsult.se iCalcreator 2.30.10//
CALSCALE:GREGORIAN
METHOD:PUBLISH
UID:92ff5c5c-73bb-41bf-8b74-8d86aef205fc
X-WR-CALDESC:The NABHO Executive Committee meets monthly on the third Frida
 y.
X-WR-RELCALID:a1489dd35c45f1d70560323ee4997786
X-WR-TIMEZONE:America/Chicago
BEGIN:VTIMEZONE
TZID:America/Chicago
BEGIN:STANDARD
TZNAME:CST
DTSTART:20281105T020000
TZOFFSETFROM:-0500
TZOFFSETTO:-0600
RDATE:20291104T020000
RDATE:20301103T020000
END:STANDARD
BEGIN:DAYLIGHT
TZNAME:CDT
DTSTART:20290311T020000
TZOFFSETFROM:-0600
TZOFFSETTO:-0500
RDATE:20300310T020000
END:DAYLIGHT
END:VTIMEZONE
BEGIN:VEVENT
UID:f9ca3c76-4c44-41d8-8ade-d2745af05d1b
DTSTAMP:20260423T005545Z
DESCRIPTION:The NABHO Executive Committee meets monthly on the third Friday
 .
DTSTART;TZID=America/Chicago:20290720T080000
DTEND;TZID=America/Chicago:20290720T100000
LOCATION:Virtual meeting\; details to join will be sent to Exec Committee m
 embers via email
SUMMARY:Monthly Executive Committee Meeting
END:VEVENT
END:VCALENDAR
