BEGIN:VCALENDAR
VERSION:2.0
PRODID:-//nabho.org//NONSGML kigkonsult.se iCalcreator 2.30.10//
CALSCALE:GREGORIAN
METHOD:PUBLISH
UID:188fe43e-ad35-4c07-b590-401284b1ee93
X-WR-CALDESC:The NABHO Executive Committee meets monthly on the third Frida
 y.
X-WR-RELCALID:63c94a6013e66ac9bd5c9561bfc423fc
X-WR-TIMEZONE:America/Chicago
BEGIN:VTIMEZONE
TZID:America/Chicago
BEGIN:STANDARD
TZNAME:CST
DTSTART:20281105T020000
TZOFFSETFROM:-0500
TZOFFSETTO:-0600
RDATE:20291104T020000
RDATE:20301103T020000
END:STANDARD
BEGIN:DAYLIGHT
TZNAME:CDT
DTSTART:20290311T020000
TZOFFSETFROM:-0600
TZOFFSETTO:-0500
RDATE:20300310T020000
RDATE:20310309T020000
END:DAYLIGHT
END:VTIMEZONE
BEGIN:VEVENT
UID:37f7dbdc-d723-4135-8c23-f606dd2c21d8
DTSTAMP:20260423T050916Z
DESCRIPTION:The NABHO Executive Committee meets monthly on the third Friday
 .
DTSTART;TZID=America/Chicago:20291019T080000
DTEND;TZID=America/Chicago:20291019T100000
LOCATION:Virtual meeting\; details to join will be sent to Exec Committee m
 embers via email
SUMMARY:Monthly Executive Committee Meeting
END:VEVENT
END:VCALENDAR
