BEGIN:VCALENDAR
VERSION:2.0
PRODID:-//nabho.org//NONSGML kigkonsult.se iCalcreator 2.30.10//
CALSCALE:GREGORIAN
METHOD:PUBLISH
UID:292952ed-2598-475d-ac86-a2c8e489532d
X-WR-CALDESC:The NABHO Executive Committee meets monthly on the third Frida
 y.
X-WR-RELCALID:2fc1f4d5810f42f032d969acdcfd03aa
X-WR-TIMEZONE:America/Chicago
BEGIN:VTIMEZONE
TZID:America/Chicago
BEGIN:STANDARD
TZNAME:CST
DTSTART:20291104T020000
TZOFFSETFROM:-0500
TZOFFSETTO:-0600
RDATE:20301103T020000
END:STANDARD
BEGIN:DAYLIGHT
TZNAME:CDT
DTSTART:20290311T020000
TZOFFSETFROM:-0600
TZOFFSETTO:-0500
RDATE:20300310T020000
RDATE:20310309T020000
END:DAYLIGHT
END:VTIMEZONE
BEGIN:VEVENT
UID:7b9cef21-e835-4c45-b5ba-41cd8439bf15
DTSTAMP:20260423T063619Z
DESCRIPTION:The NABHO Executive Committee meets monthly on the third Friday
 .
DTSTART;TZID=America/Chicago:20291116T080000
DTEND;TZID=America/Chicago:20291116T100000
LOCATION:Virtual meeting\; details to join will be sent to Exec Committee m
 embers via email
SUMMARY:Monthly Executive Committee Meeting
END:VEVENT
END:VCALENDAR
